BEGIN:VCALENDAR
VERSION:2.0
PRODID:-//Groupe Spéléo Lausanne - ECPv6.15.17.1//NONSGML v1.0//EN
CALSCALE:GREGORIAN
METHOD:PUBLISH
X-WR-CALNAME:Groupe Spéléo Lausanne
X-ORIGINAL-URL:https://speleo-lausanne.ch
X-WR-CALDESC:Évènements pour Groupe Spéléo Lausanne
REFRESH-INTERVAL;VALUE=DURATION:PT1H
X-Robots-Tag:noindex
X-PUBLISHED-TTL:PT1H
BEGIN:VTIMEZONE
TZID:Europe/Zurich
BEGIN:DAYLIGHT
TZOFFSETFROM:+0100
TZOFFSETTO:+0200
TZNAME:CEST
DTSTART:20250330T010000
END:DAYLIGHT
BEGIN:STANDARD
TZOFFSETFROM:+0200
TZOFFSETTO:+0100
TZNAME:CET
DTSTART:20251026T010000
END:STANDARD
BEGIN:DAYLIGHT
TZOFFSETFROM:+0100
TZOFFSETTO:+0200
TZNAME:CEST
DTSTART:20260329T010000
END:DAYLIGHT
BEGIN:STANDARD
TZOFFSETFROM:+0200
TZOFFSETTO:+0100
TZNAME:CET
DTSTART:20261025T010000
END:STANDARD
BEGIN:DAYLIGHT
TZOFFSETFROM:+0100
TZOFFSETTO:+0200
TZNAME:CEST
DTSTART:20270328T010000
END:DAYLIGHT
BEGIN:STANDARD
TZOFFSETFROM:+0200
TZOFFSETTO:+0100
TZNAME:CET
DTSTART:20271031T010000
END:STANDARD
END:VTIMEZONE
BEGIN:VEVENT
DTSTART;TZID=Europe/Zurich:20260425T000000
DTEND;TZID=Europe/Zurich:20260428T000000
DTSTAMP:20260423T215040
CREATED:20260323T071110Z
LAST-MODIFIED:20260323T071110Z
UID:451-1777075200-1777334400@speleo-lausanne.ch
SUMMARY:Weekend Yarpes — Pâques
DESCRIPTION:Refuge de Yarpes\, Vallée de Joux — Pied du Jura vaudois
URL:https://speleo-lausanne.ch/event/weekend-yarpes-paques/
CATEGORIES:Yarpes
END:VEVENT
BEGIN:VEVENT
DTSTART;TZID=Europe/Zurich:20260502T000000
DTEND;TZID=Europe/Zurich:20260502T235900
DTSTAMP:20260423T215040
CREATED:20260323T071110Z
LAST-MODIFIED:20260323T071110Z
UID:452-1777680000-1777766340@speleo-lausanne.ch
SUMMARY:Désob — Gouffre du Signal
DESCRIPTION:Gouffre du Signal\, La Vallée — Pied du Jura vaudois
URL:https://speleo-lausanne.ch/event/desob-gouffre-du-signal/
CATEGORIES:Désob
END:VEVENT
BEGIN:VEVENT
DTSTART;TZID=Europe/Zurich:20260503T100000
DTEND;TZID=Europe/Zurich:20260503T160000
DTSTAMP:20260423T215040
CREATED:20260323T071110Z
LAST-MODIFIED:20260323T071110Z
UID:453-1777802400-1777824000@speleo-lausanne.ch
SUMMARY:Sortie photo — Grotte du Bichon
DESCRIPTION:Grotte du Bichon\, La Chaux-de-Fonds — Jura neuchâtelois
URL:https://speleo-lausanne.ch/event/sortie-photo-grotte-du-bichon/
CATEGORIES:Grotte pour tous
END:VEVENT
BEGIN:VEVENT
DTSTART;TZID=Europe/Zurich:20260506T200000
DTEND;TZID=Europe/Zurich:20260506T220000
DTSTAMP:20260423T215040
CREATED:20260323T071110Z
LAST-MODIFIED:20260323T071110Z
UID:454-1778097600-1778104800@speleo-lausanne.ch
SUMMARY:Séance mensuelle du GSL
DESCRIPTION:Salle de gym\, rte du Censuy 12\, Lonay — Lonay
URL:https://speleo-lausanne.ch/event/seance-mensuelle-du-gsl-5/
CATEGORIES:Club
END:VEVENT
BEGIN:VEVENT
DTSTART;TZID=Europe/Zurich:20260509T000000
DTEND;TZID=Europe/Zurich:20260509T235900
DTSTAMP:20260423T215040
CREATED:20260323T071110Z
LAST-MODIFIED:20260323T071110Z
UID:455-1778284800-1778371140@speleo-lausanne.ch
SUMMARY:Canyon de la Diosaz — sortie club
DESCRIPTION:Canyon de la Diosaz\, Servoz — Mont-Blanc
URL:https://speleo-lausanne.ch/event/canyon-de-la-diosaz-sortie-club/
CATEGORIES:Grotte pour confirmés
END:VEVENT
BEGIN:VEVENT
DTSTART;TZID=Europe/Zurich:20260510T000000
DTEND;TZID=Europe/Zurich:20260510T235900
DTSTAMP:20260423T215040
CREATED:20260323T071110Z
LAST-MODIFIED:20260323T071110Z
UID:456-1778371200-1778457540@speleo-lausanne.ch
SUMMARY:Initiation canyoning — Gorges du Chauderon
DESCRIPTION:Gorges du Chauderon\, Montreux — Préalpes vaudoises
URL:https://speleo-lausanne.ch/event/initiation-canyoning-gorges-du-chauderon/
CATEGORIES:Grotte pour tous
END:VEVENT
BEGIN:VEVENT
DTSTART;TZID=Europe/Zurich:20260515T190000
DTEND;TZID=Europe/Zurich:20260515T233000
DTSTAMP:20260423T215040
CREATED:20260323T072710Z
LAST-MODIFIED:20260323T072710Z
UID:466-1778871600-1778887800@speleo-lausanne.ch
SUMMARY:Repas de fin de saison
DESCRIPTION:Local GSL\, Lonay — Lonay
URL:https://speleo-lausanne.ch/event/repas-de-fin-de-saison/
CATEGORIES:Convivial
END:VEVENT
BEGIN:VEVENT
DTSTART;TZID=Europe/Zurich:20260516T000000
DTEND;TZID=Europe/Zurich:20260518T000000
DTSTAMP:20260423T215040
CREATED:20260323T071110Z
LAST-MODIFIED:20260323T071110Z
UID:457-1778889600-1779062400@speleo-lausanne.ch
SUMMARY:Expédition Haute-Savoie — réseau Félix-Trombe
DESCRIPTION:Réseau Félix-Trombe\, Samoëns — Mont-Blanc
URL:https://speleo-lausanne.ch/event/expedition-haute-savoie-reseau-felix-trombe/
CATEGORIES:Grotte pour confirmés
END:VEVENT
BEGIN:VEVENT
DTSTART;TZID=Europe/Zurich:20260520T193000
DTEND;TZID=Europe/Zurich:20260520T213000
DTSTAMP:20260423T215040
CREATED:20260323T072710Z
LAST-MODIFIED:20260323T072710Z
UID:467-1779305400-1779312600@speleo-lausanne.ch
SUMMARY:Réunion de comité
DESCRIPTION:Local GSL\, Lonay — Lonay
URL:https://speleo-lausanne.ch/event/reunion-de-comite-2/
CATEGORIES:Gestion club
END:VEVENT
BEGIN:VEVENT
DTSTART;TZID=Europe/Zurich:20260523T000000
DTEND;TZID=Europe/Zurich:20260523T235900
DTSTAMP:20260423T215040
CREATED:20260323T071110Z
LAST-MODIFIED:20260323T071110Z
UID:458-1779494400-1779580740@speleo-lausanne.ch
SUMMARY:Canyon du Bruson — sortie club
DESCRIPTION:Canyon du Bruson\, Le Châble — Valais
URL:https://speleo-lausanne.ch/event/canyon-du-bruson-sortie-club/
CATEGORIES:Grotte pour confirmés
END:VEVENT
BEGIN:VEVENT
DTSTART;TZID=Europe/Zurich:20260524T100000
DTEND;TZID=Europe/Zurich:20260524T160000
DTSTAMP:20260423T215040
CREATED:20260323T071110Z
LAST-MODIFIED:20260323T071110Z
UID:459-1779616800-1779638400@speleo-lausanne.ch
SUMMARY:Sortie familiale — Grottes de Vallorbe
DESCRIPTION:Grottes de Vallorbe — Pied du Jura vaudois
URL:https://speleo-lausanne.ch/event/sortie-familiale-grottes-de-vallorbe-2/
CATEGORIES:Grotte pour tous
END:VEVENT
BEGIN:VEVENT
DTSTART;TZID=Europe/Zurich:20260530T000000
DTEND;TZID=Europe/Zurich:20260601T000000
DTSTAMP:20260423T215040
CREATED:20260323T071110Z
LAST-MODIFIED:20260323T071110Z
UID:460-1780099200-1780272000@speleo-lausanne.ch
SUMMARY:Weekend Yarpes — fin de saison
DESCRIPTION:Refuge de Yarpes\, Vallée de Joux — Pied du Jura vaudois
URL:https://speleo-lausanne.ch/event/weekend-yarpes-fin-de-saison/
CATEGORIES:Yarpes
END:VEVENT
END:VCALENDAR